BEGIN:VCALENDAR
VERSION:2.0
PRODID:-//Squarespace Inc/Squarespace 6//v6//EN
BEGIN:VEVENT
UID:580d297a59cc689a7b3e9f65@squarespace.com
DTSTAMP:20161023T223234Z
DTSTART:20161027T030000Z
DTEND:20161029T060000Z
SUMMARY:Four Spectacular Wines on the free tasting barrel this week
END:VEVENT
END:VCALENDAR
